BEGIN:VCALENDAR
VERSION:2.0
PRODID:-//Sports Timing - ECPv6.15.20//NONSGML v1.0//EN
CALSCALE:GREGORIAN
METHOD:PUBLISH
X-WR-CALNAME:Sports Timing
X-ORIGINAL-URL:https://sportstiming.com
X-WR-CALDESC:Events for Sports Timing
REFRESH-INTERVAL;VALUE=DURATION:PT1H
X-Robots-Tag:noindex
X-PUBLISHED-TTL:PT1H
BEGIN:VTIMEZONE
TZID:America/New_York
BEGIN:DAYLIGHT
TZOFFSETFROM:-0500
TZOFFSETTO:-0400
TZNAME:EDT
DTSTART:20250309T070000
END:DAYLIGHT
BEGIN:STANDARD
TZOFFSETFROM:-0400
TZOFFSETTO:-0500
TZNAME:EST
DTSTART:20251102T060000
END:STANDARD
BEGIN:DAYLIGHT
TZOFFSETFROM:-0500
TZOFFSETTO:-0400
TZNAME:EDT
DTSTART:20260308T070000
END:DAYLIGHT
BEGIN:STANDARD
TZOFFSETFROM:-0400
TZOFFSETTO:-0500
TZNAME:EST
DTSTART:20261101T060000
END:STANDARD
BEGIN:DAYLIGHT
TZOFFSETFROM:-0500
TZOFFSETTO:-0400
TZNAME:EDT
DTSTART:20270314T070000
END:DAYLIGHT
BEGIN:STANDARD
TZOFFSETFROM:-0400
TZOFFSETTO:-0500
TZNAME:EST
DTSTART:20271107T060000
END:STANDARD
END:VTIMEZONE
BEGIN:VEVENT
DTSTART;VALUE=DATE:20260205
DTEND;VALUE=DATE:20260209
DTSTAMP:20260421T055800
CREATED:20250805T151326Z
LAST-MODIFIED:20260129T223128Z
UID:14969-1770249600-1770595199@sportstiming.com
SUMMARY:SCLSC Short Course Senior Championships
DESCRIPTION:Meet Information\nEvent File\n\n  \n\nPreliminary Psych Sheet 1-29\nPreliminary Psych Sheet\n\nPlease submit any corrections in the body of an email (no new entry files) with proof of time to meet.support@sportstiming.com by 5pm on Thursday January 29th\, 2026.\nAdditionally\, we know several teams are participating in meets this coming weekend. Please submit additional qualifying swims and swimmers in the body of an email  (no new entry files) with proof of time to meet.support@sportstiming.com by 5pm on Monday\,  February 2nd.\nNew swimmers must include DOB and USA ID. All swims must include the qualifying time and where the time was achieved (PDF results preferred\, SWIMS screen shot ok\, Meet Mobile screen shot is not acceptable).\n\n\n\n\nFrom the meet information:\n\nCoaches will have 48 hours upon notice of the posting to review the psych sheet and notify the hosting club of any corrections. Coaches               cannot change athlete’s events or times once entries are received by the host club (except as currently stated in the P&P where non-        Conforming times can be changed within 24 hours of notification by the host club to the athlete’s coach). Only omissions can be corrected at     the published cost of the event.\nAdditional individual entries will be accepted after the entry deadline (January 26\, 2026) for times achieved between the entry deadline                 (January 26\, 2026.) and the following Sunday (February 1\, 2026). New qualifying events for existing entered swimmers are allowed. Updated               qualifying times for events previously entered for swimmers are not allowed. All new qualifying time entries must be received by 5:00 PM\,                   Monday\, February 2nd\, 2026. Coaches must present meet results (prove times).
URL:https://sportstiming.com/event/sclsc-short-course-senior-championships/
LOCATION:North Charleston Aquatic Center\, 8610 Patriots Blvd\, North Charleston\, SC\, 29418\, United States
CATEGORIES:Championships,USA Swimming
END:VEVENT
END:VCALENDAR