BEGIN:VCALENDAR
VERSION:2.0
PRODID:-//Sports Timing - ECPv6.15.20//NONSGML v1.0//EN
CALSCALE:GREGORIAN
METHOD:PUBLISH
X-ORIGINAL-URL:https://sportstiming.com
X-WR-CALDESC:Events for Sports Timing
REFRESH-INTERVAL;VALUE=DURATION:PT1H
X-Robots-Tag:noindex
X-PUBLISHED-TTL:PT1H
BEGIN:VTIMEZONE
TZID:America/New_York
BEGIN:DAYLIGHT
TZOFFSETFROM:-0500
TZOFFSETTO:-0400
TZNAME:EDT
DTSTART:20210314T070000
END:DAYLIGHT
BEGIN:STANDARD
TZOFFSETFROM:-0400
TZOFFSETTO:-0500
TZNAME:EST
DTSTART:20211107T060000
END:STANDARD
BEGIN:DAYLIGHT
TZOFFSETFROM:-0500
TZOFFSETTO:-0400
TZNAME:EDT
DTSTART:20220313T070000
END:DAYLIGHT
BEGIN:STANDARD
TZOFFSETFROM:-0400
TZOFFSETTO:-0500
TZNAME:EST
DTSTART:20221106T060000
END:STANDARD
BEGIN:DAYLIGHT
TZOFFSETFROM:-0500
TZOFFSETTO:-0400
TZNAME:EDT
DTSTART:20230312T070000
END:DAYLIGHT
BEGIN:STANDARD
TZOFFSETFROM:-0400
TZOFFSETTO:-0500
TZNAME:EST
DTSTART:20231105T060000
END:STANDARD
BEGIN:DAYLIGHT
TZOFFSETFROM:-0500
TZOFFSETTO:-0400
TZNAME:EDT
DTSTART:20240310T070000
END:DAYLIGHT
BEGIN:STANDARD
TZOFFSETFROM:-0400
TZOFFSETTO:-0500
TZNAME:EST
DTSTART:20241103T060000
END:STANDARD
BEGIN:DAYLIGHT
TZOFFSETFROM:-0500
TZOFFSETTO:-0400
TZNAME:EDT
DTSTART:20250309T070000
END:DAYLIGHT
BEGIN:STANDARD
TZOFFSETFROM:-0400
TZOFFSETTO:-0500
TZNAME:EST
DTSTART:20251102T060000
END:STANDARD
BEGIN:DAYLIGHT
TZOFFSETFROM:-0500
TZOFFSETTO:-0400
TZNAME:EDT
DTSTART:20260308T070000
END:DAYLIGHT
BEGIN:STANDARD
TZOFFSETFROM:-0400
TZOFFSETTO:-0500
TZNAME:EST
DTSTART:20261101T060000
END:STANDARD
END:VTIMEZONE
BEGIN:VEVENT
DTSTART;VALUE=DATE:20250920
DTEND;VALUE=DATE:20250921
DTSTAMP:20260419T102834
CREATED:20250805T151340Z
LAST-MODIFIED:20250809T135531Z
UID:14972-1758326400-1758412799@sportstiming.com
SUMMARY:Fort Dorchester Invite
DESCRIPTION:Final Results\nMeet Results for Team Manager \nFinal Scores \nFinal Results \n\nPre-meet / Entry Submission\nMeet Events-2025 FOD Invite-20Sep2025-001 \nSubmit Entries
URL:https://sportstiming.com/event/fort-dorchester-invite/
LOCATION:North Charleston Aquatic Center\, 8610 Patriots Blvd\, North Charleston\, SC\, 29418\, United States
CATEGORIES:Invitational
END:VEVENT
BEGIN:VEVENT
DTSTART;VALUE=DATE:20250920
DTEND;VALUE=DATE:20250921
DTSTAMP:20260419T102834
CREATED:20250803T172608Z
LAST-MODIFIED:20250920T212445Z
UID:14869-1758326400-1758412799@sportstiming.com
SUMMARY:Hoos’ a-Pool- ooza
DESCRIPTION:Final Results\nMeet Results-2025 SC HOOS A POOL OOZA-20Sep2025-001 \nFinal Results \n\nPre-meet / Entry Submission\nEvent file – SC \nEvent file – Out of SC \nMeet Information \nEmail entries to meet.entries@sportstiming.com
URL:https://sportstiming.com/event/hooss-a-poop_ooza/
LOCATION:LTP Aquatic Center
CATEGORIES:Invitational,USA Swimming
END:VEVENT
BEGIN:VEVENT
DTSTART;TZID=America/New_York:20250916T080000
DTEND;TZID=America/New_York:20250916T170000
DTSTAMP:20260419T102834
CREATED:20250823T233053Z
LAST-MODIFIED:20250917T014241Z
UID:15091-1758009600-1758042000@sportstiming.com
SUMMARY:Wando vs West Ashley
DESCRIPTION:Final Results\nMeet Results-Wando vs West Ashley-16Sep2025-001 \nFinal Scores \nFinal Results \n\nPre-meet / Entry Submission\nMeet Events-Wando vs West Ashley-16Sep2025-001 \nSubmit Entries
URL:https://sportstiming.com/event/wando-vs-west-ashley/
LOCATION:Parkwest Aquatic Center
CATEGORIES:Dual Meet,High School Swimming
END:VEVENT
BEGIN:VEVENT
DTSTART;VALUE=DATE:20250916
DTEND;VALUE=DATE:20250917
DTSTAMP:20260419T102834
CREATED:20250803T172623Z
LAST-MODIFIED:20250917T013142Z
UID:14870-1757980800-1758067199@sportstiming.com
SUMMARY:ASR / SUM Tri-Meet #3
DESCRIPTION:Final Results\nMeet Results-2025 ASR- SUM Tri Meet #3-16Sep2025-001\n\nPre-meet / Entry Submission\nMeet Events-2025 ASR- SUM Tri Meet #3-16Sep2025-001 \nSubmit Entries
URL:https://sportstiming.com/event/ashley-ridge-tri-meet-2/
LOCATION:North Charleston Aquatic Center\, 8610 Patriots Blvd\, North Charleston\, SC\, 29418\, United States
CATEGORIES:Double Dual,High School Swimming
END:VEVENT
BEGIN:VEVENT
DTSTART;VALUE=DATE:20250914
DTEND;VALUE=DATE:20250915
DTSTAMP:20260419T102834
CREATED:20250805T151340Z
LAST-MODIFIED:20250812T235956Z
UID:14958-1757808000-1757894399@sportstiming.com
SUMMARY:Carolina Aquatics Race Fest #1
DESCRIPTION:Final Results\nMeet Results for Team Manager \nFinal Scores \nFinal Results \n\nPre-meet / Entry Submission\nMeet Events-2025 SC CA #1 Racefest-14Sep2025-001 \nMeet Information \nSubmit Entries
URL:https://sportstiming.com/event/carolina-aquatics-race-fest-1/
LOCATION:Columbia College
CATEGORIES:Invitational
END:VEVENT
BEGIN:VEVENT
DTSTART;VALUE=DATE:20250913
DTEND;VALUE=DATE:20250914
DTSTAMP:20260419T102834
CREATED:20250803T172608Z
LAST-MODIFIED:20250914T003525Z
UID:14867-1757721600-1757807999@sportstiming.com
SUMMARY:Pinewood Invite
DESCRIPTION:Final Results\nMeet Results-2025 Pinewood Invitational-13Sep2025-001 \nFInal Results \nFinal Scores \n\nPre-meet / Entry Submission\nMeet Events-2025 Pinewood Invitational-13Sep2025-001 \nSubmit Entries
URL:https://sportstiming.com/event/pinewood-invite/
LOCATION:North Charleston Aquatic Center\, 8610 Patriots Blvd\, North Charleston\, SC\, 29418\, United States
CATEGORIES:Invitational
END:VEVENT
BEGIN:VEVENT
DTSTART;VALUE=DATE:20250913
DTEND;VALUE=DATE:20250914
DTSTAMP:20260419T102834
CREATED:20250803T172608Z
LAST-MODIFIED:20250903T205914Z
UID:14868-1757721600-1757807999@sportstiming.com
SUMMARY:St. James Invite
DESCRIPTION:Final Results\nMeet Results for Team Manager \nFinal Scores \nFinal Results \n\nPre-meet / Entry Submission\nMeet Events-2025 St James Invitational-13Sep2025-001 \nSubmit entries 
URL:https://sportstiming.com/event/st-james-invite/
LOCATION:SC
CATEGORIES:Invitational
END:VEVENT
BEGIN:VEVENT
DTSTART;VALUE=DATE:20250909
DTEND;VALUE=DATE:20250910
DTSTAMP:20260419T102834
CREATED:20250803T172608Z
LAST-MODIFIED:20250910T010419Z
UID:14865-1757376000-1757462399@sportstiming.com
SUMMARY:ASR / SUM Tri-Meet #2
DESCRIPTION:Final Results\nMeet Results-2025 ASR- SUM Tri Meet #2-09Sep2025-001 \nFinal Results \nFinal Scores \n\nPre-meet / Entry Submission\nMeet Events-2025 ASR- SUM Tri Meet #2-09Sep2025-001 \nSubmit Entries
URL:https://sportstiming.com/event/summerville-hs-tri-meet/
LOCATION:North Charleston Aquatic Center\, 8610 Patriots Blvd\, North Charleston\, SC\, 29418\, United States
CATEGORIES:Double Dual,High School Swimming
END:VEVENT
BEGIN:VEVENT
DTSTART;VALUE=DATE:20250906
DTEND;VALUE=DATE:20250907
DTSTAMP:20260419T102834
CREATED:20250803T172606Z
LAST-MODIFIED:20250906T183515Z
UID:14864-1757116800-1757203199@sportstiming.com
SUMMARY:Ashley Ridge Rock The Block
DESCRIPTION:Final Results\nMeet Results-2025 Rock the Block Invitational-06Sep2025-001 \nFinal Scores \nFinal Results \n\nPre-meet / Entry Submission\nMeet Events-2025 Rock the Block Invitational-06Sep2025-001 \nSubmit entries 
URL:https://sportstiming.com/event/ashley-ridge-rock-the-block/
LOCATION:North Charleston Aquatic Center\, 8610 Patriots Blvd\, North Charleston\, SC\, 29418\, United States
CATEGORIES:Invitational
END:VEVENT
BEGIN:VEVENT
DTSTART;VALUE=DATE:20250902
DTEND;VALUE=DATE:20250903
DTSTAMP:20260419T102834
CREATED:20250803T174957Z
LAST-MODIFIED:20250918T010805Z
UID:14901-1756771200-1756857599@sportstiming.com
SUMMARY:Lucy Beckham vs Goose Creek
DESCRIPTION:Final Results\nMeet Results-Lucy Beckham vs Goose Creek-02Sep2025-001 \nFinal Results \n\nPre-meet / Entry Submission\nMeet Events-Lucy Beckham vs Goose Creek-02Sep2025-001 \nSubmit Entries
URL:https://sportstiming.com/event/lucy-beckham-vs-goose-creek/
LOCATION:LTP Aquatic Center
CATEGORIES:Dual Meet,High School Swimming
END:VEVENT
BEGIN:VEVENT
DTSTART;VALUE=DATE:20250828
DTEND;VALUE=DATE:20250829
DTSTAMP:20260419T102834
CREATED:20250803T172606Z
LAST-MODIFIED:20250918T220749Z
UID:14863-1756339200-1756425599@sportstiming.com
SUMMARY:Oceanside Invite
DESCRIPTION:Final Results\nMeet Results-2025 Oceanside Home Meet-28Aug2025-001 \nFinal Results \nFinal Scores \n\nPre-meet / Entry Submission\nMeet Events-2025 Oceanside Home Meet-28Aug2025-001 \nSubmit Entries
URL:https://sportstiming.com/event/oceanside-invite/
LOCATION:Parkwest Aquatic Center
CATEGORIES:Invitational
END:VEVENT
BEGIN:VEVENT
DTSTART;VALUE=DATE:20250826
DTEND;VALUE=DATE:20250827
DTSTAMP:20260419T102834
CREATED:20250803T172606Z
LAST-MODIFIED:20250827T010844Z
UID:14861-1756166400-1756252799@sportstiming.com
SUMMARY:ASR / SUM Tri-Meet #1
DESCRIPTION:Final Results\nMeet Results-2025 ASR- SUM Tri Meet #1-26Aug2025-001 \nFinal Scores \nFInal Results \n\nPre-meet / Entry Submission\nMeet Events-2025 ASR- SUM Tri Meet #1-26Aug2025-001 \nSubmit Entries
URL:https://sportstiming.com/event/ashley-ridge-tri-meet/
LOCATION:North Charleston Aquatic Center\, 8610 Patriots Blvd\, North Charleston\, SC\, 29418\, United States
CATEGORIES:Double Dual,High School Swimming
END:VEVENT
BEGIN:VEVENT
DTSTART;VALUE=DATE:20250826
DTEND;VALUE=DATE:20250827
DTSTAMP:20260419T102834
CREATED:20250803T172606Z
LAST-MODIFIED:20250823T183937Z
UID:14862-1756166400-1756252799@sportstiming.com
SUMMARY:Wando vs Stratford
DESCRIPTION:Final Results\nMeet Results for Team Manager \nFinal Scores \nFinal Results \n\nPre-meet / Entry Submission\nMeet Events-Wando vs Stratford-26Aug2025-001 \nSubmit Entries
URL:https://sportstiming.com/event/wando-vs-stratford/
LOCATION:Parkwest Aquatic Center
CATEGORIES:Dual Meet
END:VEVENT
BEGIN:VEVENT
DTSTART;VALUE=DATE:20250823
DTEND;VALUE=DATE:20250824
DTSTAMP:20260419T102834
CREATED:20250803T172606Z
LAST-MODIFIED:20250812T173139Z
UID:14860-1755907200-1755993599@sportstiming.com
SUMMARY:North Myrtle Beach HS Invite
DESCRIPTION:Final Results\nMeet Results for Team Manager \nFinal Scores \nFinal Results \n\nPre-meet / Entry Submission\nMeet Events-2025 Chief Invitational-23Aug2025-001\nSubmit Entries
URL:https://sportstiming.com/event/north-myrtle-beach-hs-invite/
LOCATION:North Myrtle Beach Aquatic Center
CATEGORIES:Invitational
END:VEVENT
BEGIN:VEVENT
DTSTART;VALUE=DATE:20250819
DTEND;VALUE=DATE:20250820
DTSTAMP:20260419T102834
CREATED:20250803T174824Z
LAST-MODIFIED:20250804T002427Z
UID:14899-1755561600-1755647999@sportstiming.com
SUMMARY:Lucy Beckham vs Wando
DESCRIPTION:Final Results\nMeet Results for Team Manager \nFinal Scores \nFinal Results \n\nPre-meet / Entry Submission\nMeet Events-Lucy Beckham vs Wando-19Aug2025-001 \nSubmit Entries
URL:https://sportstiming.com/event/lucy-beckham-vs-wando/
LOCATION:LTP Aquatic Center
CATEGORIES:Dual Meet,High School Swimming
END:VEVENT
BEGIN:VEVENT
DTSTART;TZID=America/New_York:20241019T150000
DTEND;TZID=America/New_York:20241019T173000
DTSTAMP:20260419T102834
CREATED:20240809T151212Z
LAST-MODIFIED:20250803T175621Z
UID:13693-1729350000-1729359000@sportstiming.com
SUMMARY:SCHSL AAAAA D2 Girls State Championships
DESCRIPTION:5A D2 Girls Championships-19Oct2024-001\n\n\n5A D2 Girls Results- AP Format for newspaper\n5A-D2 Girls Final Results\n5A-D2 Girls Final Scores\n\nProtected: 2024 SCHSL 5A-D2 Girls ChampionshipsEnter Password to Download: Download Now!0 Downloads\n\n\nFinal Psych Sheet – Qualifiers only\nPreliminary Psych Sheet – All entries\n\n\n\nMeet Events-2024 SCHSL 5A D2 Girls Championships-19Oct2024-001\n\n\n\nSubmit Entries
URL:https://sportstiming.com/event/schsl-aaaaa-d2-girls-state-championships/
LOCATION:SC
CATEGORIES:High School Swimming,State Championships
END:VEVENT
BEGIN:VEVENT
DTSTART;TZID=America/New_York:20241019T110000
DTEND;TZID=America/New_York:20241019T140000
DTSTAMP:20260419T102834
CREATED:20240809T151212Z
LAST-MODIFIED:20250803T175621Z
UID:13692-1729335600-1729346400@sportstiming.com
SUMMARY:SCHSL AAAAA D1 Boys State Championships
DESCRIPTION:5A D1 Boys Final Results\n5A D1 Boys Results – AP Format for newspaper\n5A D1 Boys Final Scores\n\nProtected: 2024 SCHSL 5A-D1 BoysChampionshipsEnter Password to Download: Download Now!4 Downloads\n\n\nFinal Psych Sheet – Qualifiers only\nPreliminary Psych Sheet – All entries\n\n\n\nMeet Events-2024 SCHSL 5A D1 Boys Championships-19Oct2024-001\n\n\n\nSubmit Entries
URL:https://sportstiming.com/event/schsl-aaaaa-d1-boys-state-championships/
LOCATION:SC
CATEGORIES:High School Swimming,State Championships
END:VEVENT
BEGIN:VEVENT
DTSTART;TZID=America/New_York:20241017T180000
DTEND;TZID=America/New_York:20241017T203000
DTSTAMP:20260419T102834
CREATED:20240809T151212Z
LAST-MODIFIED:20250803T175621Z
UID:13691-1729188000-1729197000@sportstiming.com
SUMMARY:SCHSL AAAA Boys State Championships
DESCRIPTION:4A Boys State Championships – Final Results\n4A Boys State Championships – Team Scores\n4A Boys State Championships – Final Result – AP\n\nProtected: 2024 SCHSL 4A Boys ChampionshipsEnter Password to Download: Download Now!4 Downloads\n\n\nFinal Psych Sheet – Qualifiers only\nPreliminary Psych Sheet – All entries\n\n\n\nMeet Events-2024 SCHSL 4A Boys Championships-17Oct2024-001\n\n\n\nSubmit Entries
URL:https://sportstiming.com/event/schsl-aaaa-boys-state-championships/
LOCATION:SC
CATEGORIES:High School Swimming,State Championships
END:VEVENT
BEGIN:VEVENT
DTSTART;TZID=America/New_York:20241017T140000
DTEND;TZID=America/New_York:20241017T163000
DTSTAMP:20260419T102834
CREATED:20240809T151210Z
LAST-MODIFIED:20250803T175621Z
UID:13690-1729173600-1729182600@sportstiming.com
SUMMARY:SCHSL AAA Girls State Championships
DESCRIPTION:3A Girls State Championships – Final Results\n3A Girls State Championships – Team Scores\n3A Girls State Championships – Final Results – AP\n\nProtected: 2024 SCHSL 3A Girls ChampionshipsEnter Password to Download: Download Now!2 Downloads\n\n\nFinal Psych Sheet – Qualifiers only\nPreliminary Psych Sheet – All entries\n\n\n\nMeet Events-2024 SCHSL 3A Girls Championships-17Oct2024-001\n\n\n\nSubmit Entries
URL:https://sportstiming.com/event/schsl-aaa-girls-state-championships/
LOCATION:SC
CATEGORIES:High School Swimming,State Championships
END:VEVENT
BEGIN:VEVENT
DTSTART;TZID=America/New_York:20241017T100000
DTEND;TZID=America/New_York:20241017T100000
DTSTAMP:20260419T102834
CREATED:20240809T151210Z
LAST-MODIFIED:20250803T175621Z
UID:13689-1729159200-1729159200@sportstiming.com
SUMMARY:SCHSL AAAAA D2 Boys State Championships
DESCRIPTION:SCHSL 5AD2 Boys – Final Results\nSCHSL 5AD2 Boys – Team Scores\nSCHSL 5AD2 Boys – Final Results – AP\n\nProtected: 2024 SCHSL 5A-D2 Boys ChampionshipsEnter Password to Download: Download Now!2 Downloads\n\n\nFinal Psych Sheet – Qualifiers only\nPreliminary Psych Sheet – All entries\n\n\n\nMeet Events-2024 SCHSL 5A D2 Boys Championships-17Oct2024-001\n\n\n\nSubmit Entries
URL:https://sportstiming.com/event/schsl-aaaaa-d2-boys-state-championships/
LOCATION:SC
CATEGORIES:High School Swimming,State Championships
END:VEVENT
BEGIN:VEVENT
DTSTART;VALUE=DATE:20241015
DTEND;VALUE=DATE:20241016
DTSTAMP:20260419T102834
CREATED:20240809T151209Z
LAST-MODIFIED:20250803T175621Z
UID:13686-1728950400-1729036799@sportstiming.com
SUMMARY:SCHSL AAAAA D1 Girls State Championships
DESCRIPTION:SCHSL 5A-D1 Girls State Championships – Final Results\nSCHSL 5A-D1 Girls State Championships – Team Scores\nFinal Results – AP Format for Newspaper\n\nProtected: 2024 SCHSL 5A-D1 Girls ChampionshipsEnter Password to Download: Download Now!3 Downloads\n\n\nPsych Sheet – Qualifiers Only\nPreliminary Psych Sheet – All entries\n\n\n\nMeet Events-2024 SCHSL 5A D1 Girls Championships-15Oct2024-001\n\n\n\nSubmit Entries
URL:https://sportstiming.com/event/schsl-aaaaa-d1-girls-state-championships/
LOCATION:SC
CATEGORIES:High School Swimming,State Championships
END:VEVENT
BEGIN:VEVENT
DTSTART;VALUE=DATE:20241015
DTEND;VALUE=DATE:20241016
DTSTAMP:20260419T102834
CREATED:20240809T151210Z
LAST-MODIFIED:20250803T175621Z
UID:13687-1728950400-1729036799@sportstiming.com
SUMMARY:SCHSL AAA Boys State Championships
DESCRIPTION:SCHSL 3A Boys -Final Results\nSCHSL 3A Boys – Team Scores\nSCHSL 3A Boys – AP Results\n\nProtected: 2024 SCHSL 3A Boys ChampionshipsEnter Password to Download: Download Now!2 Downloads\n\n\nFinal Psych Sheet – Qualifiers only\nFinal Psych Sheet – All Entries\n\n\n\nMeet Events-2024 SCHSL 3A Boys Championships-15Oct2024-001\n\n\n\nSubmit Entries
URL:https://sportstiming.com/event/schsl-aaa-boys-state-championships/
LOCATION:SC
CATEGORIES:High School Swimming,State Championships
END:VEVENT
BEGIN:VEVENT
DTSTART;VALUE=DATE:20241015
DTEND;VALUE=DATE:20241016
DTSTAMP:20260419T102834
CREATED:20240809T151210Z
LAST-MODIFIED:20250803T175621Z
UID:13688-1728950400-1729036799@sportstiming.com
SUMMARY:SCHSL AAAA Girls State Championships
DESCRIPTION:SCHSL 4A Girls – Final Results\nSCHSL 4A Girls – Team Scores\nSCHSL 4A Girls – Final Results – AP\n\nProtected: 2024 SCHSL 4A Girls ChampionshipsEnter Password to Download: Download Now!4 Downloads\n\n\nFinal Psych Sheet – Qualifiers only\nPreliminary Psych Sheet – All entries\n\n\n\nMeet Events-2024 SCHSL 4A Girls Championships-15Oct2024-001\n\n\n\nSubmit Entries
URL:https://sportstiming.com/event/schsl-aaaa-girls-state-championships/
LOCATION:SC
CATEGORIES:High School Swimming,State Championships
END:VEVENT
BEGIN:VEVENT
DTSTART;VALUE=DATE:20241012
DTEND;VALUE=DATE:20241013
DTSTAMP:20260419T102834
CREATED:20240824T225521Z
LAST-MODIFIED:20250803T175621Z
UID:13740-1728691200-1728777599@sportstiming.com
SUMMARY:2024 SCISA State Champs
DESCRIPTION:Meet Results-2024 SCISA State Championships-12Oct2024-001\nResults AP Format for newspaper\nFinal Results\nFinal Scores\n\n\n\nPsych Sheet as of 10-9\n\n\n\n2024 SCISA Meet information\nMeet Events-2024 SCISA State Championships-12Oct2024-001\n\n\n\nSubmit entries\n\n\n\nSCISA Seniors\nSCISA Officials and Timers\n\n\n 
URL:https://sportstiming.com/event/2024-scisa-state-champs/
LOCATION:SC
CATEGORIES:High School Swimming,State Championships
END:VEVENT
BEGIN:VEVENT
DTSTART;VALUE=DATE:20221015
DTEND;VALUE=DATE:20221016
DTSTAMP:20260419T102834
CREATED:20220915T155855Z
LAST-MODIFIED:20250803T175621Z
UID:11979-1665792000-1665878399@sportstiming.com
SUMMARY:2022 SCISA State Championships
DESCRIPTION:Results -AP Format for newspaper\nFinal Results\nFinal Scores\nMeet Results-2022 SCISA State Championships-15Oct2022-001\n\n\nFinal Psych Sheet\nUpdated Psych Sheet\n2022 STATE MEET WARM UPS\n\n  \n\nEvent File\n2022 SCISA State Championships\nSubmit entries\n\n  \n\nSCISA Officials\nSCISA Seniors\nSCISA Timers\n\n 
URL:https://sportstiming.com/event/2022-scisa-state-championships/
LOCATION:SC
CATEGORIES:High School Swimming,State Championships
END:VEVENT
BEGIN:VEVENT
DTSTART;VALUE=DATE:20221008
DTEND;VALUE=DATE:20221009
DTSTAMP:20260419T102834
CREATED:20220914T153849Z
LAST-MODIFIED:20250803T175621Z
UID:11956-1665187200-1665273599@sportstiming.com
SUMMARY:2022 3A SCHSL State Championships
DESCRIPTION:Meet Results-2022 SCHSL 3 A Championships-08Oct2022-001\nResults- AP Format – 3A\nFinal Results\nFinal Scores\n\n  \n\nFinal Psych Sheet\nSCHSL 3A Preliminary Psych Sheet\n\nAll swimmers are listed\, those who did not qualify are listed with an SCR next to their name.\n\n\n\n  \n\nEvent File \nSubmit entries
URL:https://sportstiming.com/event/2022-3a-schsl-state-championships/
LOCATION:SC
CATEGORIES:High School Swimming,State Championships
END:VEVENT
BEGIN:VEVENT
DTSTART;VALUE=DATE:20221008
DTEND;VALUE=DATE:20221009
DTSTAMP:20260419T102834
CREATED:20220914T153638Z
LAST-MODIFIED:20250803T175622Z
UID:11953-1665187200-1665273599@sportstiming.com
SUMMARY:2022 5A SCHSL State Championships
DESCRIPTION:Meet Results-2022 SCHSL 5A Championships-08Oct2022-001\nResults – AP Format 5A\nFinal Results\nFinal Scores\n\n  \n\nFinal Psych Sheet\nPreliminary Psych Sheet\n\nAll swimmers are listed\, those who did not qualify are listed with an SCR next to their name.\n\n\n\n  \n\nEvent File\nSubmit entries
URL:https://sportstiming.com/event/2022-5a-schsl-state-championships/
LOCATION:SC
CATEGORIES:High School Swimming,State Championships
END:VEVENT
BEGIN:VEVENT
DTSTART;VALUE=DATE:20221007
DTEND;VALUE=DATE:20221008
DTSTAMP:20260419T102834
CREATED:20220914T153417Z
LAST-MODIFIED:20250803T175622Z
UID:11950-1665100800-1665187199@sportstiming.com
SUMMARY:2022 SCHSL 4A State Championships
DESCRIPTION:Results- AP Format for Newspaper – 4A\nFinal Results\nFinal Scores\nMeet Results-2022 SCHSL 4A Championships-07Oct2022-001\n\n  \n  \n\nFinal Psych Sheet\nPreliminary Psych Sheet\n\nAll swimmers are listed\, those who did not qualify are listed with an SCR next to their name.\n\n\n\n  \n\nEvent File\nSubmit entries
URL:https://sportstiming.com/event/2022-schsl-4a-state-championships-2/
LOCATION:SC
CATEGORIES:High School Swimming,State Championships
END:VEVENT
END:VCALENDAR