BEGIN:VCALENDAR
VERSION:2.0
PRODID:-//Sports Timing - ECPv6.15.20//NONSGML v1.0//EN
CALSCALE:GREGORIAN
METHOD:PUBLISH
X-ORIGINAL-URL:https://sportstiming.com
X-WR-CALDESC:Events for Sports Timing
REFRESH-INTERVAL;VALUE=DURATION:PT1H
X-Robots-Tag:noindex
X-PUBLISHED-TTL:PT1H
BEGIN:VTIMEZONE
TZID:America/New_York
BEGIN:DAYLIGHT
TZOFFSETFROM:-0500
TZOFFSETTO:-0400
TZNAME:EDT
DTSTART:20240310T070000
END:DAYLIGHT
BEGIN:STANDARD
TZOFFSETFROM:-0400
TZOFFSETTO:-0500
TZNAME:EST
DTSTART:20241103T060000
END:STANDARD
BEGIN:DAYLIGHT
TZOFFSETFROM:-0500
TZOFFSETTO:-0400
TZNAME:EDT
DTSTART:20250309T070000
END:DAYLIGHT
BEGIN:STANDARD
TZOFFSETFROM:-0400
TZOFFSETTO:-0500
TZNAME:EST
DTSTART:20251102T060000
END:STANDARD
BEGIN:DAYLIGHT
TZOFFSETFROM:-0500
TZOFFSETTO:-0400
TZNAME:EDT
DTSTART:20260308T070000
END:DAYLIGHT
BEGIN:STANDARD
TZOFFSETFROM:-0400
TZOFFSETTO:-0500
TZNAME:EST
DTSTART:20261101T060000
END:STANDARD
END:VTIMEZONE
BEGIN:VEVENT
DTSTART;TZID=America/New_York:20250916T080000
DTEND;TZID=America/New_York:20250916T170000
DTSTAMP:20260421T042457
CREATED:20250823T233053Z
LAST-MODIFIED:20250917T014241Z
UID:15091-1758009600-1758042000@sportstiming.com
SUMMARY:Wando vs West Ashley
DESCRIPTION:Final Results\nMeet Results-Wando vs West Ashley-16Sep2025-001 \nFinal Scores \nFinal Results \n\nPre-meet / Entry Submission\nMeet Events-Wando vs West Ashley-16Sep2025-001 \nSubmit Entries
URL:https://sportstiming.com/event/wando-vs-west-ashley/
LOCATION:Parkwest Aquatic Center
CATEGORIES:Dual Meet,High School Swimming
END:VEVENT
BEGIN:VEVENT
DTSTART;VALUE=DATE:20250902
DTEND;VALUE=DATE:20250903
DTSTAMP:20260421T042457
CREATED:20250803T174957Z
LAST-MODIFIED:20250918T010805Z
UID:14901-1756771200-1756857599@sportstiming.com
SUMMARY:Lucy Beckham vs Goose Creek
DESCRIPTION:Final Results\nMeet Results-Lucy Beckham vs Goose Creek-02Sep2025-001 \nFinal Results \n\nPre-meet / Entry Submission\nMeet Events-Lucy Beckham vs Goose Creek-02Sep2025-001 \nSubmit Entries
URL:https://sportstiming.com/event/lucy-beckham-vs-goose-creek/
LOCATION:LTP Aquatic Center
CATEGORIES:Dual Meet,High School Swimming
END:VEVENT
BEGIN:VEVENT
DTSTART;VALUE=DATE:20250826
DTEND;VALUE=DATE:20250827
DTSTAMP:20260421T042457
CREATED:20250803T172606Z
LAST-MODIFIED:20250823T183937Z
UID:14862-1756166400-1756252799@sportstiming.com
SUMMARY:Wando vs Stratford
DESCRIPTION:Final Results\nMeet Results for Team Manager \nFinal Scores \nFinal Results \n\nPre-meet / Entry Submission\nMeet Events-Wando vs Stratford-26Aug2025-001 \nSubmit Entries
URL:https://sportstiming.com/event/wando-vs-stratford/
LOCATION:Parkwest Aquatic Center
CATEGORIES:Dual Meet
END:VEVENT
BEGIN:VEVENT
DTSTART;VALUE=DATE:20250819
DTEND;VALUE=DATE:20250820
DTSTAMP:20260421T042457
CREATED:20250803T174824Z
LAST-MODIFIED:20250804T002427Z
UID:14899-1755561600-1755647999@sportstiming.com
SUMMARY:Lucy Beckham vs Wando
DESCRIPTION:Final Results\nMeet Results for Team Manager \nFinal Scores \nFinal Results \n\nPre-meet / Entry Submission\nMeet Events-Lucy Beckham vs Wando-19Aug2025-001 \nSubmit Entries
URL:https://sportstiming.com/event/lucy-beckham-vs-wando/
LOCATION:LTP Aquatic Center
CATEGORIES:Dual Meet,High School Swimming
END:VEVENT
END:VCALENDAR